BEGIN:VCALENDAR
VERSION:2.0
PRODID:-//Tukios.com/
BEGIN:VEVENT
UID:06a9d5bc-9e3a-417b-9850-7be7923820eb@www.fryefh.com
DTSTAMP:20260422T182647Z
DTSTART:20260423
SUMMARY:Burial
DESCRIPTION:
URL:https://www.fryefh.com/obituaries/daniel-mcgill
LOCATION: Raybon Rd.  Hoboken  GA 31542
GEO:31.1927684;-82.1273981
END:VEVENT
END:VCALENDAR