BEGIN:VCALENDAR
VERSION:2.0
PRODID:-//Tukios.com/
BEGIN:VEVENT
UID:1f317604-84c3-487e-91f9-67141f66eda0@www.fryefh.com
DTSTAMP:20260422T182659Z
DTSTART:20260423T150000Z
DTEND:20260423T160000Z
SUMMARY:Graveside Service
DESCRIPTION:
URL:https://www.fryefh.com/obituaries/daniel-mcgill
LOCATION: Raybon Rd.  Hoboken  GA 31542
GEO:31.1927684;-82.1273981
END:VEVENT
END:VCALENDAR